BEGIN:VCALENDAR
VERSION:2.0
PRODID:-//wp-events-plugin.com//6.6.4.4//EN
TZID:Europe/Warsaw
X-WR-TIMEZONE:Europe/Warsaw
BEGIN:VEVENT
UID:27@test.strajk.info
DTSTART;TZID=Europe/Warsaw:20250410T104500
DTEND;TZID=Europe/Warsaw:20250413T170000
DTSTAMP:20250408T181641Z
URL:https://www.test.strajk.info/events/dysponujemy-i-wydajemy-pomoc-dla-p
 owodzian-3/
SUMMARY:Dysponujemy i wydajemy pomoc dla powodzian
DESCRIPTION:asdf
CATEGORIES:Odbiór Pomocy
LOCATION:Pabianice Jana Kilińskiego 3\, Jana Kilińskiego 3\, Pabianice\, 
 województwo łódzkie\, 95-200\, Poland
GEO:51.663838;19.35401
X-APPLE-STRUCTURED-LOCATION;VALUE=URI;X-ADDRESS=Jana Kilińskiego 3\, Pabia
 nice\, województwo łódzkie\, 95-200\, Poland;X-APPLE-RADIUS=100;X-TITLE
 =Pabianice Jana Kilińskiego 3:geo:51.663838,19.35401
END:VEVENT
BEGIN:VTIMEZONE
TZID:Europe/Warsaw
X-LIC-LOCATION:Europe/Warsaw
BEGIN:DAYLIGHT
DTSTART:20250330T030000
TZOFFSETFROM:+0100
TZOFFSETTO:+0200
TZNAME:CEST
END:DAYLIGHT
END:VTIMEZONE
END:VCALENDAR