BEGIN:VCALENDAR
VERSION:2.0
PRODID:-//wp-events-plugin.com//6.6.4.4//EN
TZID:Europe/Warsaw
X-WR-TIMEZONE:Europe/Warsaw
BEGIN:VEVENT
UID:26@test.strajk.info
DTSTART;TZID=Europe/Warsaw:20241008T080000
DTEND;TZID=Europe/Warsaw:20241013T170000
DTSTAMP:20241001T062848Z
URL:https://www.test.strajk.info/events/dysponujemy-i-wydajemy-pomoc-dla-p
 owodzian-osuszacze/
SUMMARY:Dysponujemy i wydajemy pomoc dla powodzian osuszacze
DESCRIPTION:
CATEGORIES:Odbiór Pomocy
LOCATION:Kłodzko Stanisławy Walasiewiczówny 3\, Stanisławy Walasiewicz
 ówny 3\, Kłodzko\, województwo dolnośląskie\, 57-300\, Pawłowa\, Pol
 and
GEO:50.430252;16.652691
X-APPLE-STRUCTURED-LOCATION;VALUE=URI;X-ADDRESS=Stanisławy Walasiewiczówn
 y 3\, Kłodzko\, województwo dolnośląskie\, 57-300\, Pawłowa\, Poland;
 X-APPLE-RADIUS=100;X-TITLE=Kłodzko Stanisławy Walasiewiczówny 3:geo:50.
 430252,16.652691
END:VEVENT
BEGIN:VTIMEZONE
TZID:Europe/Warsaw
X-LIC-LOCATION:Europe/Warsaw
BEGIN:DAYLIGHT
DTSTART:20240331T030000
TZOFFSETFROM:+0100
TZOFFSETTO:+0200
TZNAME:CEST
END:DAYLIGHT
END:VTIMEZONE
END:VCALENDAR