BEGIN:VCALENDAR
VERSION:2.0
PRODID:-//wp-events-plugin.com//6.6.4.4//EN
TZID:Europe/Warsaw
X-WR-TIMEZONE:Europe/Warsaw
BEGIN:VEVENT
UID:24@test.strajk.info
DTSTART;TZID=Europe/Warsaw;VALUE=DATE:20240927
DTEND;TZID=Europe/Warsaw;VALUE=DATE:20240930
DTSTAMP:20240924T213627Z
URL:https://www.test.strajk.info/events/dysponujemy-i-wydajemy-pomoc-dla-p
 owodzian-stronie/
SUMMARY:Dysponujemy i wydajemy pomoc dla powodzian Stronie
DESCRIPTION:
CATEGORIES:Odbiór Pomocy
LOCATION:Stronie Śląskie\, Stronie Śląskie\, Stronie Śląskie\, wojew
 ództwo dolnośląskie\, 57-550\, Poland
GEO:50.28523;16.857517
X-APPLE-STRUCTURED-LOCATION;VALUE=URI;X-ADDRESS=Stronie Śląskie\, Stronie
  Śląskie\, województwo dolnośląskie\, 57-550\, Poland;X-APPLE-RADIUS=
 100;X-TITLE=Stronie Śląskie:geo:50.28523,16.857517
END:VEVENT
BEGIN:VTIMEZONE
TZID:Europe/Warsaw
X-LIC-LOCATION:Europe/Warsaw
BEGIN:DAYLIGHT
DTSTART:20240331T030000
TZOFFSETFROM:+0100
TZOFFSETTO:+0200
TZNAME:CEST
END:DAYLIGHT
END:VTIMEZONE
END:VCALENDAR