BEGIN:VCALENDAR
VERSION:2.0
PRODID:-//wp-events-plugin.com//6.6.4.4//EN
TZID:Europe/Warsaw
X-WR-TIMEZONE:Europe/Warsaw
BEGIN:VEVENT
UID:22@test.strajk.info
DTSTART;TZID=Europe/Warsaw:20240925T060000
DTEND;TZID=Europe/Warsaw:20240929T183000
DTSTAMP:20240924T212904Z
URL:https://www.test.strajk.info/events/dysponujemy-i-wydajemy-pomoc-dla-p
 owodzian-wrocek-grabiszynska/
SUMMARY:Dysponujemy i wydajemy pomoc dla powodzian Wrocek Grabiszyńska
DESCRIPTION:567789346 tort
CATEGORIES:Odbiór Pomocy
LOCATION:Wrocław Grabiszyńska 67\, Grabiszyńska 67\, Wrocław\, wojewód
 ztwo dolnośląskie\, 53-503\, Przedmieście Świdnickie\, Poland
GEO:51.102655;17.013653
X-APPLE-STRUCTURED-LOCATION;VALUE=URI;X-ADDRESS=Grabiszyńska 67\, Wrocław
 \, województwo dolnośląskie\, 53-503\, Przedmieście Świdnickie\, Pola
 nd;X-APPLE-RADIUS=100;X-TITLE=Wrocław Grabiszyńska 67:geo:51.102655,17.0
 13653
END:VEVENT
BEGIN:VTIMEZONE
TZID:Europe/Warsaw
X-LIC-LOCATION:Europe/Warsaw
BEGIN:DAYLIGHT
DTSTART:20240331T030000
TZOFFSETFROM:+0100
TZOFFSETTO:+0200
TZNAME:CEST
END:DAYLIGHT
END:VTIMEZONE
END:VCALENDAR