BEGIN:VCALENDAR
VERSION:2.0
PRODID:-//wp-events-plugin.com//6.6.4.4//EN
TZID:Europe/Warsaw
X-WR-TIMEZONE:Europe/Warsaw
BEGIN:VEVENT
UID:28@test.strajk.info
DTSTART;TZID=Europe/Warsaw:20250408T091500
DTEND;TZID=Europe/Warsaw:20250420T221500
DTSTAMP:20250408T182633Z
URL:https://www.test.strajk.info/events/oczekujemy-pomocy/
SUMMARY:oczekujemy pomocy
DESCRIPTION:
CATEGORIES:Oczekujemy Pomocy
LOCATION:Zgierz Plac Jana Pawła II\, Plac Jana Pawła II\, Zgierz\, wojew
 ództwo łódzkie\, 95-100\, Poland
GEO:51.855859;19.405332
X-APPLE-STRUCTURED-LOCATION;VALUE=URI;X-ADDRESS=Plac Jana Pawła II\, Zgier
 z\, województwo łódzkie\, 95-100\, Poland;X-APPLE-RADIUS=100;X-TITLE=Zg
 ierz Plac Jana Pawła II:geo:51.855859,19.405332
END:VEVENT
BEGIN:VTIMEZONE
TZID:Europe/Warsaw
X-LIC-LOCATION:Europe/Warsaw
BEGIN:DAYLIGHT
DTSTART:20250330T030000
TZOFFSETFROM:+0100
TZOFFSETTO:+0200
TZNAME:CEST
END:DAYLIGHT
END:VTIMEZONE
END:VCALENDAR