BEGIN:VCALENDAR
VERSION:2.0
PRODID:-//wp-events-plugin.com//6.6.4.4//EN
TZID:Europe/Warsaw
X-WR-TIMEZONE:Europe/Warsaw
BEGIN:VEVENT
UID:25@test.strajk.info
DTSTART;TZID=Europe/Warsaw:20241001T063000
DTEND;TZID=Europe/Warsaw:20241006T200000
DTSTAMP:20241001T062410Z
URL:https://www.test.strajk.info/events/potrzebujemy-pomocy-stojkow/
SUMMARY:Potrzebujemy pomocy Stójków
DESCRIPTION:Potrzebujemy osuszaczy oraz kontenera do gruzu.
CATEGORIES:Oczekujemy Pomocy
LOCATION:Stójków\, Stójków\, Stójków\, województwo dolnośląskie\, 
 57-540\, Poland
GEO:50.3273;16.875486
X-APPLE-STRUCTURED-LOCATION;VALUE=URI;X-ADDRESS=Stójków\, Stójków\, woj
 ewództwo dolnośląskie\, 57-540\, Poland;X-APPLE-RADIUS=100;X-TITLE=Stó
 jków:geo:50.3273,16.875486
END:VEVENT
BEGIN:VTIMEZONE
TZID:Europe/Warsaw
X-LIC-LOCATION:Europe/Warsaw
BEGIN:DAYLIGHT
DTSTART:20240331T030000
TZOFFSETFROM:+0100
TZOFFSETTO:+0200
TZNAME:CEST
END:DAYLIGHT
END:VTIMEZONE
END:VCALENDAR