BEGIN:VCALENDAR
VERSION:2.0
PRODID:-//wp-events-plugin.com//6.6.4.4//EN
TZID:Europe/Warsaw
X-WR-TIMEZONE:Europe/Warsaw
BEGIN:VEVENT
UID:23@test.strajk.info
DTSTART;TZID=Europe/Warsaw;VALUE=DATE:20240927
DTEND;TZID=Europe/Warsaw;VALUE=DATE:20240930
DTSTAMP:20240924T213229Z
URL:https://www.test.strajk.info/events/potrzebujemy-pomocy-w-zburzeniu-mo
 stu-glogow/
SUMMARY:Potrzebujemy pomocy w zburzeniu mostu Glógow
DESCRIPTION:465768688
CATEGORIES:Oczekujemy Pomocy
LOCATION:Głogów Nadbrzeżna\, Nadbrzeżna\, Głogów\, województwo dolno
 śląskie\, 67-200\, Poland
GEO:51.667122;16.090545
X-APPLE-STRUCTURED-LOCATION;VALUE=URI;X-ADDRESS=Nadbrzeżna\, Głogów\, wo
 jewództwo dolnośląskie\, 67-200\, Poland;X-APPLE-RADIUS=100;X-TITLE=Gł
 ogów Nadbrzeżna:geo:51.667122,16.090545
END:VEVENT
BEGIN:VTIMEZONE
TZID:Europe/Warsaw
X-LIC-LOCATION:Europe/Warsaw
BEGIN:DAYLIGHT
DTSTART:20240331T030000
TZOFFSETFROM:+0100
TZOFFSETTO:+0200
TZNAME:CEST
END:DAYLIGHT
END:VTIMEZONE
END:VCALENDAR